BEGIN:VCALENDAR
VERSION:2.0
PRODID:-//Musikverein Nattenhausen 1919 e.V. - ECPv6.15.20//NONSGML v1.0//EN
CALSCALE:GREGORIAN
METHOD:PUBLISH
X-ORIGINAL-URL:https://mv-nattenhausen.de
X-WR-CALDESC:Veranstaltungen für Musikverein Nattenhausen 1919 e.V.
REFRESH-INTERVAL;VALUE=DURATION:PT1H
X-Robots-Tag:noindex
X-PUBLISHED-TTL:PT1H
BEGIN:VTIMEZONE
TZID:Europe/Berlin
BEGIN:DAYLIGHT
TZOFFSETFROM:+0100
TZOFFSETTO:+0200
TZNAME:CEST
DTSTART:20250330T010000
END:DAYLIGHT
BEGIN:STANDARD
TZOFFSETFROM:+0200
TZOFFSETTO:+0100
TZNAME:CET
DTSTART:20251026T010000
END:STANDARD
BEGIN:DAYLIGHT
TZOFFSETFROM:+0100
TZOFFSETTO:+0200
TZNAME:CEST
DTSTART:20260329T010000
END:DAYLIGHT
BEGIN:STANDARD
TZOFFSETFROM:+0200
TZOFFSETTO:+0100
TZNAME:CET
DTSTART:20261025T010000
END:STANDARD
BEGIN:DAYLIGHT
TZOFFSETFROM:+0100
TZOFFSETTO:+0200
TZNAME:CEST
DTSTART:20270328T010000
END:DAYLIGHT
BEGIN:STANDARD
TZOFFSETFROM:+0200
TZOFFSETTO:+0100
TZNAME:CET
DTSTART:20271031T010000
END:STANDARD
END:VTIMEZONE
BEGIN:VEVENT
DTSTART;TZID=Europe/Berlin:20260314T193000
DTEND;TZID=Europe/Berlin:20260314T193000
DTSTAMP:20260424T155953
CREATED:20260213T132556Z
LAST-MODIFIED:20260301T194408Z
UID:7002-1773516600-1773516600@mv-nattenhausen.de
SUMMARY:Abend der Blasmusik
DESCRIPTION:Eintritt für Kinder frei. \n\n\n\n\n\n\n\n\n\n\n\nAuf WhatsApp teilen (Wird in neuem Fenster geöffnet)WhatsApp\n\nÜber native Werkzeuge teilenTeilenIn die Zwischenablage kopiert\n\n\n\n\n	\n		\n\n			\n			\n\n							\n					\n						Andere					\n				\n			\n			\n				\n											\n\n	\n	\n		\n			Mai		\n		\n			8		\n	\n\n\n	\n		\n			\n\n				\n					\n		\n		19:00 Uhr	\n	\n					\n	\n		BlechFeetz	\n\n				\n\n				\n			\n		\n	\n\n\n											\n\n	\n	\n		\n			Mai		\n		\n			31		\n	\n\n\n	\n		\n			\n\n				\n					\n		\n		Ganztägig	\n	\n					\n	\n		Umzug Edenhausen	\n\n				\n\n				\n			\n		\n	\n\n\n											\n\n	\n	\n		\n			Juni		\n		\n			7		\n	\n\n\n	\n		\n			\n\n				\n					\n		\n		9:00 Uhr bis 13:30 Uhr	\n	\n					\n	\n		Jugendtag	\n\n				\n\n				\n			\n		\n	\n\n\n											\n\n	\n	\n		\n			Juni		\n		\n			21		\n	\n\n\n	\n		\n			\n\n				\n					\n		\n		Ganztägig	\n	\n					\n	\n		Festakt 100 Jahre Tisogau	\n\n				\n\n				\n			\n		\n	\n\n\n											\n\n	\n	\n		\n			Juni		\n		\n			28		\n	\n\n\n	\n		\n			\n\n				\n					\n		\n		9:00 Uhr bis 13:30 Uhr	\n	\n					\n	\n		Auftritt Ebershausen	\n\n				\n\n				\n			\n		\n	\n\n\n									\n\n				\n	\n		Kalender anzeigen	\n\n\n					\n	\n\n\n\n\n\n\n\nChat in WhatsApp
URL:https://mv-nattenhausen.de/termine/abend-der-blasmusik/
LOCATION:Vereinsheim Breitenthal\, Am Sportplatz 1\, Breitenthal\, 86488\, Germany
ATTACH;FMTTYPE=image/jpeg:https://mv-nattenhausen.de/wp-content/uploads/2025/04/nggallery_import/1.webp
END:VEVENT
BEGIN:VEVENT
DTSTART;TZID=Europe/Berlin:20260214T000000
DTEND;TZID=Europe/Berlin:20260214T235959
DTSTAMP:20260424T155953
CREATED:20260110T232357Z
LAST-MODIFIED:20260202T164247Z
UID:7038-1771027200-1771113599@mv-nattenhausen.de
SUMMARY:Ball der Vereine
DESCRIPTION:Über native Werkzeuge teilenTeilenIn die Zwischenablage kopiert\n\nAuf WhatsApp teilen (Wird in neuem Fenster geöffnet)WhatsApp
URL:https://mv-nattenhausen.de/termine/ball-der-vereine/
LOCATION:Vereinsheim Nattenhausen\, Unterdorfer Str. 13\, Nattenhausen\, Bayern\, 86488\, Germany
END:VEVENT
END:VCALENDAR